BEGIN:VCALENDAR
VERSION:2.0
PRODID:-//My Community Diary//iCal Event//EN
CALSCALE:GREGORIAN
METHOD:PUBLISH
BEGIN:VEVENT
UID:2fd5596a-5820-4993-a3e5-7f230d21eb97
DTSTAMP:20260422T071354Z
DTSTART;VALUE=DATE:20260922
DTEND;VALUE=DATE:20260923
SUMMARY:Henty Machinery Field Days
DESCRIPTION:Established in 1963\, the Henty Machinery Field Days is now the largest outdoor agricultural event in eastern Australia.  Showcasing the leading edge in farm machinery and agricultural businesses across Australia\, Henty Machinery Field Days brings together over 3000 businesses and 50\,000 visitors together in the one exhibition space.\n\nSitting in the middle of Australia's agricultural powerhouse\, Henty Machinery Field Days draws audiences from broad acre and specialist farming and grazing areas from all over Australia and New Zealand.  Henty Machinery Field Days cater to the air of optimism evident in agribusiness farming throughout south-eastern Australia.\n\nJoin them again this year for the biggest event yet!\n\nEntry Cost\nAll tickets $8  - Tickets range in price from $8 to $30. Early bird discounted tickets will be available online until the opening day of the event.  Head to www.hmfd.com.au for ticket options.
LOCATION:\, 22 Lubkes Road\, Henty\, NSW 2658\, NSW\, 2658
RRULE:FREQ=DAILY;INTERVAL=1;UNTIL=20260924T000000Z
END:VEVENT
END:VCALENDAR
