BEGIN:VCALENDAR
VERSION:2.0
PRODID:-//My Community Diary//iCal Event//EN
CALSCALE:GREGORIAN
METHOD:PUBLISH
BEGIN:VEVENT
UID:6815f0e8-03d1-4d5c-9ee8-96ad21a40406
DTSTAMP:20260422T002722Z
DTSTART;VALUE=DATE:20260515
DTEND;VALUE=DATE:20260516
SUMMARY:Harvey
DESCRIPTION:Harvey\, by Mary Chase\, is an evergreen delight.\n\nDirected by Drew Pittman\, Harvey is the story of a perfect gentleman\, Elwood P. Dowd\, and his best friend\, Harvey\, a pooka\, who is a six-foot tall\, invisible rabbit. When Elwood begins introducing Harvey around town\, his embarrassed sister\, Veta Louise\, and her daughter\, Myrtle Mae\, determine to commit Elwood to a sanitarium.\n\nThe play is a wonderful and heartwarming adventure\, all about accepting eccentricities when they aren't hurting anyone and not to let vanity cause rifts in relationships.\n\nBookings open 25 February 2026.\n\nEntry Cost\nAdult $32 \nConcession $27 \nChild $27 \nGroup $27 
LOCATION:\, 244 High Street\, Maitland\, NSW 2320\, NSW\, 2320
RRULE:FREQ=DAILY;INTERVAL=1;UNTIL=20260517T000000Z
END:VEVENT
END:VCALENDAR
