BEGIN:VCALENDAR
VERSION:2.0
PRODID:-//My Community Diary//iCal Event//EN
CALSCALE:GREGORIAN
METHOD:PUBLISH
BEGIN:VEVENT
UID:38cf7ffa-d0de-44ac-b7de-499ec0d43eb9
DTSTAMP:20260422T013544Z
DTSTART;VALUE=DATE:20260912
DTEND;VALUE=DATE:20260913
SUMMARY:HARS Aviation Museum Tarmac Days
DESCRIPTION:Beyond the Museum's daily exhibits and tours\, Tarmac Days bring aviation history to life by showcasing specific events and eras.  Held outdoors beside the HARS hangars on the second Friday\, Saturday\, and Sunday of every month\, Tarmac Days feature a display of unique aircraft from the HARS collection at  Illawarra Regional Airport\, Albion Park.\n\nVisitors can climb aboard and see the cockpits of iconic aircraft\, including the Lockheed Super Constellation\, Catalina\, and Neptune submarine hunter and many more.  Knowledgeable guides lead aircraft tours throughout the day\, offering fascinating insights into each display.\n\nTake the time to explore the Museum's other standout collections\, including the exceptional restoration work of HARS aviation volunteers and their replica of Kingsford Smith's Southern Cross. Be sure to see the Boeing 747-438 'City of Canberra'\, the Qantas passenger jet that set the world record for the longest non-stop commercial flight from London to Sydney in August 1989.  \n\nTake your experience further with a wing walk\, cockpit tour\, or premium guided tour of the Boeing 747 (bookings required) and get up close to the sheer scale and breathtaking detail of this record-breaking aircraft\, the only one of its kind preserved in Australia.\n\nEntry Cost\nAll tickets $15  - Adults AUD $30\, Concessions AUD $30\, Child AUD $15\, Family Pass AUD $80.
LOCATION:\, 54 Airport Road\, Albion Park Rail\, NSW 2527\, NSW\, 2527
RRULE:FREQ=DAILY;INTERVAL=1;UNTIL=20260914T000000Z
END:VEVENT
END:VCALENDAR
