BEGIN:VCALENDAR
VERSION:2.0
PRODID:-//My Community Diary//iCal Event//EN
CALSCALE:GREGORIAN
METHOD:PUBLISH
BEGIN:VEVENT
UID:4c24f06a-6976-49a4-9158-c32ded704e2d
DTSTAMP:20260421T211412Z
DTSTART;VALUE=DATE:20260430
DTEND;VALUE=DATE:20260501
SUMMARY:Harriett Schwarzrock: Fluid Presence
DESCRIPTION:Exploring emotional processes and their physical expressions\, Harriet Schwarzrock focuses on the interplay between the invisible and the visible. Embracing scientific experimentation\, she uses glass\, inert gases\, and electricity to form luminous organic structures alive with colour and movement\, inviting reflection on the human heart as our central\, responsive engine.
LOCATION:\, Morrow Street\, Wagga Wagga\, NSW 2650\, NSW\, 2650
RRULE:FREQ=DAILY;INTERVAL=1;UNTIL=20260502T000000Z
END:VEVENT
END:VCALENDAR
