BEGIN:VCALENDAR
VERSION:2.0
PRODID:-//My Community Diary//iCal Event//EN
CALSCALE:GREGORIAN
METHOD:PUBLISH
BEGIN:VEVENT
UID:63625224-6222-466e-9670-8f6bbe699726
DTSTAMP:20260422T015459Z
DTSTART;VALUE=DATE:20270120
DTEND;VALUE=DATE:20270121
SUMMARY:Guyra Lamb and Potato Festival
DESCRIPTION:The Lamb and Potato Festival aims to showcase local produce\, with delicious lamb and potato meals\, boutique stalls\, and daily entertainment and activities. Nestled under the beautiful elm trees on the New England Highway at Guyra\, it is the perfect stopping point for travellers during the school holidays or visitors en route to the Tamworth Country Music Festival.\n\nThe festival runs in January every year and the community hosts a variety of other events in conjunction with the festival\, making it the perfect destination for your summer break.\n\nEscape the heat and take a break in Guyra this coming January.
LOCATION:\, New England Highway\, Guyra\, NSW 2365\, NSW\, 2365
RRULE:FREQ=DAILY;INTERVAL=1;UNTIL=20270122T000000Z
END:VEVENT
END:VCALENDAR
