BEGIN:VCALENDAR
VERSION:2.0
PRODID:-//My Community Diary//iCal Event//EN
CALSCALE:GREGORIAN
METHOD:PUBLISH
BEGIN:VEVENT
UID:daac62bb-97b6-4cbe-8fc6-992bc287a311
DTSTAMP:20260421T225723Z
DTSTART;VALUE=DATE:20260919
DTEND;VALUE=DATE:20260920
SUMMARY:Gunning Fireworks Festival
DESCRIPTION:Gunning is super excited to be bringing the most spectacular and latest fireworks back to town.\n\nA fantastic family-friendly event including rides\, food stalls and of course Fireworks. It's sure to be a great night out for young and old.\n\nThis year will feature two synchronised musical fireworks displays\, a new daytime smoke demonstration\, a performance of Beating the Retreat by the Tuggeranong Valley Band complete with live cannon simulations\, as well as the ever-popular fireworks demonstration.\n\nTop tip is to get in early to secure the best vantage point.\n\nEntry Cost\nAll tickets $10  - Family tickets $50 2 Adults and up to 3 Children\nAdult $20\nChildren under 16 $10\nPensioner $10\nOnly on sale until 20 September 2025
LOCATION:\, Lerida Street\, Gunning\, NSW 2581\, NSW\, 2581
END:VEVENT
END:VCALENDAR
