BEGIN:VCALENDAR
VERSION:2.0
PRODID:-//My Community Diary//iCal Event//EN
CALSCALE:GREGORIAN
METHOD:PUBLISH
BEGIN:VEVENT
UID:881fd056-cc0d-4710-a137-2c4218a8d74b
DTSTAMP:20260422T035731Z
DTSTART;VALUE=DATE:20261128
DTEND;VALUE=DATE:20261129
SUMMARY:Gundagai Rodeo
DESCRIPTION:The Gundagai Rodeo is a premier event on the national rodeo circuit\, being held at the Gundagai Rodeo Grounds.\n\nAs the final event on the ABCRA calendar\, competition is fierce for those last national championship points\, and the nation's top cowboys and cowgirls will all be in town as part of their quest for a coveted national title. Spectacular action is guaranteed\, from the finals of the blue-ribbon Open Bull Ride under lights in the main arena\, down to the aspiring young cowboys in the Poddy ride.\n\nSee Australia's best cowgirls 'turn and burn' in the Barrel Race and experience all the thrills and spills of the Rope\, tie and Steer Wrestling finals.\n\nEnjoy the live entertainment later in the evening after the events have been completed. A full bar and canteen facilities are available.
LOCATION:\, Oibell Drive\, Gundagai\, NSW 2722\, NSW\, 2722
END:VEVENT
END:VCALENDAR
