BEGIN:VCALENDAR
VERSION:2.0
PRODID:-//My Community Diary//iCal Event//EN
CALSCALE:GREGORIAN
METHOD:PUBLISH
BEGIN:VEVENT
UID:82747791-b1b3-40d2-a738-4450beb87b6c
DTSTAMP:20260423T122019Z
DTSTART;VALUE=DATE:20260523
DTEND;VALUE=DATE:20260524
SUMMARY:Gumaraa's Traditional Bush-Tucker/Medicine Walk
DESCRIPTION:This immersive experience will not only introduce you to a variety of native plants but also provide insights into their rich cultural significance and traditional uses for food and medicine.\n\nEngage in activities that will deepen your connection to the land\, such as gathering and preparing traditional foods or crafting medicinal remedies. Through these experiences\, you will gain a profound appreciation for the ingenuity and resourcefulness of Indigenous cultures\, as well as a renewed respect for the natural world.\n\nDuring this one-hour Aboriginal bush tucker / medicine walk\, participants will have the opportunity to learn about traditional healing practices\, and gain a deeper appreciation for the rich heritage and wisdom of Aboriginal culture.\n\nSuitable for all ages. Please note\, Killalea Regional Park is accessible for those with wheelchairs\, mobility scooters and prams\, however areas are grassy/gravel and uneven.\n\nBookings essential.\n\nEntry Cost\nAll tickets $40 
LOCATION:\, Killalea Drive\, Shell Cove\, NSW 2529\, NSW\, 2529
RRULE:FREQ=DAILY;INTERVAL=1;UNTIL=20260525T000000Z
END:VEVENT
END:VCALENDAR
