BEGIN:VCALENDAR
VERSION:2.0
PRODID:-//My Community Diary//iCal Event//EN
CALSCALE:GREGORIAN
METHOD:PUBLISH
BEGIN:VEVENT
UID:955c90a6-f0fd-4720-9ae2-d4d83851e3dc
DTSTAMP:20260422T021028Z
DTSTART;VALUE=DATE:20260904
DTEND;VALUE=DATE:20260905
SUMMARY:Growers Hub Co-Operative Supermarket
DESCRIPTION:A co-operative run by producers to connect with those who love good food.\n\nProducts include meat\, fruit\, vegetables\, cheeses\, bread\, honey\, jams\, berries\, pickles\, sweet treats\, chocolate and more\, directly from the producer to you.\n\nSavor the delights of riverina produce.
LOCATION:\, 180 Forsyth Street Unit 4-5\, Wagga Wagga\, NSW 2650\, NSW\, 2650
RRULE:FREQ=DAILY;INTERVAL=1;UNTIL=20260906T000000Z
END:VEVENT
END:VCALENDAR
