BEGIN:VCALENDAR
VERSION:2.0
PRODID:-//My Community Diary//iCal Event//EN
CALSCALE:GREGORIAN
METHOD:PUBLISH
BEGIN:VEVENT
UID:4a9aba05-efc8-4cef-8af2-e85c525ae6ce
DTSTAMP:20260422T021056Z
DTSTART;VALUE=DATE:20260723
DTEND;VALUE=DATE:20260724
SUMMARY:Growers Hub Co-Operative Supermarket
DESCRIPTION:A co-operative run by producers to connect with those who love good food.\n\nProducts include meat\, fruit\, vegetables\, cheeses\, bread\, honey\, jams\, berries\, pickles\, sweet treats\, chocolate and more\, directly from the producer to you.\n\nSavor the delights of riverina produce.
LOCATION:\, 180 Forsyth Street Unit 4-5\, Wagga Wagga\, NSW 2650\, NSW\, 2650
RRULE:FREQ=DAILY;INTERVAL=1;UNTIL=20260725T000000Z
END:VEVENT
END:VCALENDAR
