BEGIN:VCALENDAR
VERSION:2.0
PRODID:-//My Community Diary//iCal Event//EN
CALSCALE:GREGORIAN
METHOD:PUBLISH
BEGIN:VEVENT
UID:e15cb7db-b2ad-44ad-bf6f-0f4ea56eae2f
DTSTAMP:20260422T022610Z
DTSTART;VALUE=DATE:20260626
DTEND;VALUE=DATE:20260627
SUMMARY:Growers Hub Co-Operative Supermarket
DESCRIPTION:A co-operative run by producers to connect with those who love good food.\n\nProducts include meat\, fruit\, vegetables\, cheeses\, bread\, honey\, jams\, berries\, pickles\, sweet treats\, chocolate and more\, directly from the producer to you.\n\nSavor the delights of riverina produce.
LOCATION:\, 180 Forsyth Street Unit 4-5\, Wagga Wagga\, NSW 2650\, NSW\, 2650
RRULE:FREQ=DAILY;INTERVAL=1;UNTIL=20260628T000000Z
END:VEVENT
END:VCALENDAR
