BEGIN:VCALENDAR
VERSION:2.0
PRODID:-//My Community Diary//iCal Event//EN
CALSCALE:GREGORIAN
METHOD:PUBLISH
BEGIN:VEVENT
UID:044f5c6a-d8f0-4eb1-836d-9b1a802a3ffd
DTSTAMP:20260423T142138Z
DTSTART;VALUE=DATE:20260613
DTEND;VALUE=DATE:20260614
SUMMARY:Growers Hub Co-Operative Supermarket
DESCRIPTION:A co-operative run by producers to connect with those who love good food.\n\nProducts include meat\, fruit\, vegetables\, cheeses\, bread\, honey\, jams\, berries\, pickles\, sweet treats\, chocolate and more\, directly from the producer to you.\n\nSavor the delights of riverina produce.
LOCATION:\, 180 Forsyth Street Unit 4-5\, Wagga Wagga\, NSW 2650\, NSW\, 2650
RRULE:FREQ=DAILY;INTERVAL=1;UNTIL=20260615T000000Z
END:VEVENT
END:VCALENDAR
