BEGIN:VCALENDAR
VERSION:2.0
PRODID:-//My Community Diary//iCal Event//EN
CALSCALE:GREGORIAN
METHOD:PUBLISH
BEGIN:VEVENT
UID:d1eebc48-3f59-4924-a388-fa74774ccfda
DTSTAMP:20260422T005017Z
DTSTART;VALUE=DATE:20260520
DTEND;VALUE=DATE:20260521
SUMMARY:Growers Hub Co-Operative Supermarket
DESCRIPTION:A co-operative run by producers to connect with those who love good food.\n\nProducts include meat\, fruit\, vegetables\, cheeses\, bread\, honey\, jams\, berries\, pickles\, sweet treats\, chocolate and more\, directly from the producer to you.\n\nSavor the delights of riverina produce.
LOCATION:\, 180 Forsyth Street Unit 4-5\, Wagga Wagga\, NSW 2650\, NSW\, 2650
RRULE:FREQ=DAILY;INTERVAL=1;UNTIL=20260522T000000Z
END:VEVENT
END:VCALENDAR
