BEGIN:VCALENDAR
VERSION:2.0
PRODID:-//My Community Diary//iCal Event//EN
CALSCALE:GREGORIAN
METHOD:PUBLISH
BEGIN:VEVENT
UID:e56827d2-a8e1-473d-a9a6-1d3daefe6262
DTSTAMP:20260422T020215Z
DTSTART;VALUE=DATE:20260509
DTEND;VALUE=DATE:20260510
SUMMARY:Groovin The Moo
DESCRIPTION:Groovin the Moo is Australia's original all-ages touring festival\, coming to Lismore in May!\n\nGet ready to get Groovin with an all star line up set to take the stage at Oakes Oval. From Baker Boy\, Denzel Curry (US)\, Dope Lemon\, Matt Corby\, Tones And I\, The Chats\, The Terrys\, Ninajirachi\, Kath Ebbs and Maple's Pet Dinosaur\, this is a massive national and international line up heading to our city.\n\nWhat makes it even more special is seeing Northern Rivers talent shining on the bill. Huge congratulations to local favourites The Colliflowers and rising star Angel White joining the line up\, Stay tuned as there's still one more local spot up for grabs through the Planet Music Homegrown Hero competition.\n\nA first festival for many young Australians\, since starting in 2005\, Groovin the Moo has had a strong focus on community. We can't wait to see you at Groovin the Moo!\n\nCheck out the Groovin the Moo website for all the exciting details and to get your tickets\, you don't want to miss it!
LOCATION:\, 144 Magellan Street\, Lismore\, NSW 2480\, NSW\, 2480
END:VEVENT
END:VCALENDAR
