BEGIN:VCALENDAR
VERSION:2.0
PRODID:-//My Community Diary//iCal Event//EN
CALSCALE:GREGORIAN
METHOD:PUBLISH
BEGIN:VEVENT
UID:456ee96b-aa0f-47cf-8881-b206697d73ab
DTSTAMP:20260421T222310Z
DTSTART;VALUE=DATE:20261016
DTEND;VALUE=DATE:20261017
SUMMARY:Griffith Spring Fest - Street Party
DESCRIPTION:Join in celebrating the Citrus Sculptures and Open Gardens with a lively street party right amidst the sculptures! \n\nThere will be an array of children's activities\, games\, and entertainment suitable for the whole family to enjoy. \n\nYou can also savour delicious dishes available for purchase while admiring the stunning sculptures. It's a family-friendly event featuring a Beer and Wine Bar\, Food Stalls\, as well as a lineup of fun activities and entertainment. \n\nDon't miss out on this exciting festival kick-off!
LOCATION:\, 1 Jondaryan Avenue\, Griffith\, NSW 2680\, NSW\, 2680
END:VEVENT
END:VCALENDAR
