BEGIN:VCALENDAR
VERSION:2.0
PRODID:-//My Community Diary//iCal Event//EN
CALSCALE:GREGORIAN
METHOD:PUBLISH
BEGIN:VEVENT
UID:c66668d5-44c3-4e93-8d7c-c53f77d7f21c
DTSTAMP:20260422T000653Z
DTSTART;VALUE=DATE:20261011
DTEND;VALUE=DATE:20261012
SUMMARY:Griffith Spring Fest - Real Juice Company Citrus Sculptures
DESCRIPTION:Join the Griffith Spring Fest and see more than 70 larger-than-life sculptures created with over 100\,000 oranges and grapefruit along Banna Avenue\, Griffith.\n\nAn army of more than 800 volunteers came together at sunrise on October 11 to construct this unique display which has been creating an amazing site since 1996.\n\nThe Citrus Sculptures are on display in Banna Avenue for two weeks\, and they encourage you to park in the Griffith Tourism Hub car park and then wander through the sculptures and admire the citrus industry in the region.\n\nThe Sculptures are the hero event of the Griffith Spring Fest. Also\, visit the open gardens\, join in the festivities at the Street Party or book a seat on the garden tour bus. There is plenty is going on in Griffith during Spring Fest.
LOCATION:\, Banna Avenue\, Griffith\, NSW 2680\, NSW\, 2680
RRULE:FREQ=DAILY;INTERVAL=1;UNTIL=20261013T000000Z
END:VEVENT
END:VCALENDAR
