BEGIN:VCALENDAR
VERSION:2.0
PRODID:-//My Community Diary//iCal Event//EN
CALSCALE:GREGORIAN
METHOD:PUBLISH
BEGIN:VEVENT
UID:70c8a6ae-fa00-407b-b17a-fca30ce2c92f
DTSTAMP:20260421T222240Z
DTSTART;VALUE=DATE:20261014
DTEND;VALUE=DATE:20261015
SUMMARY:Griffith Spring Fest - Garden Bus Tours
DESCRIPTION:Griffith Spring Fest\, Garden bus tours are back up and running for this year's Griffith Garden Festival.\n\nDeparting the Griffith Tourism Hub. The day will consist of exploring exclusive open gardens as well as a light lunch around midday.\n\nEntry Cost\nAdult $60 \nChild $30 
LOCATION:\, 1 Jondaryan Avenue\, Griffith\, NSW 2680\, NSW\, 2680
RRULE:FREQ=DAILY;INTERVAL=1;UNTIL=20261016T000000Z
END:VEVENT
END:VCALENDAR
