BEGIN:VCALENDAR
VERSION:2.0
PRODID:-//My Community Diary//iCal Event//EN
CALSCALE:GREGORIAN
METHOD:PUBLISH
BEGIN:VEVENT
UID:1c538932-a427-4134-a7cf-0eadd50e8607
DTSTAMP:20260422T013711Z
DTSTART;VALUE=DATE:20260517
DTEND;VALUE=DATE:20260518
SUMMARY:Griffith Rotary Market
DESCRIPTION:The Griffith Rotary Market is held every Sunday morning. \n\nMeet the local growers and makers at the weekly Rotary market. Seasonal fruit and vegetables\, bread\, cakes\, Italian biscuits\, jams\, relish\, olive oil\, eggs\, honey\, plants and much more are what you will find when you head to the Griffith Rotary Markets.\n\nEntry by gold coin donation.\n\nEntry Cost\nAll tickets $1  - Gold Coin Donation to the Griffith Rotary
LOCATION:\, Murrumbidgee Avenue\, Griffith\, NSW 2680\, NSW\, 2680
RRULE:FREQ=DAILY;INTERVAL=1;UNTIL=20260519T000000Z
END:VEVENT
END:VCALENDAR
