BEGIN:VCALENDAR
VERSION:2.0
PRODID:-//My Community Diary//iCal Event//EN
CALSCALE:GREGORIAN
METHOD:PUBLISH
BEGIN:VEVENT
UID:e7f7ae61-443b-476b-8b4b-3b355462db63
DTSTAMP:20260422T001940Z
DTSTART;VALUE=DATE:20260426
DTEND;VALUE=DATE:20260427
SUMMARY:Greyhound Racing
DESCRIPTION:See the greyhounds run! Richmond Race Club greyhound racing meetings are held on Wednesday\, Friday and Sunday Nights\, Thursday mornings (straight track) throughout the entire season. \n\nFree general admission to attend as a spectator. The Club has a restaurant\, kiosk\, coffee shop and bar and function facilities for the enjoyment of on-course patrons. Families are welcome and there is a playground for children. \n\nThe race track has a loam surface with a cable lure system in operation.\n\nRace dates and times whilst they have a regular schedule can be subject to scheduling changes and weather conditions. \n\nRichmond was issued its first Galloping and Trotting licence in December 1911 and the first meeting at the Londonderry track was conducted in 1912 and apart from the grimmest years of the Great Depression during 1931-35 when they did not function\, the Club has continually staged racing events.\n\nEntry Cost\nAdult $7  - Children under 16 free with accompanying adult.
LOCATION:\, 312 Londonderry Road\, Londonderry\, NSW 2753\, NSW\, 2753
RRULE:FREQ=DAILY;INTERVAL=1;UNTIL=20260428T000000Z
END:VEVENT
END:VCALENDAR
