BEGIN:VCALENDAR
VERSION:2.0
PRODID:-//My Community Diary//iCal Event//EN
CALSCALE:GREGORIAN
METHOD:PUBLISH
BEGIN:VEVENT
UID:8b1f399c-6f3e-4b22-93fc-00bdf9cdcf17
DTSTAMP:20260421T211525Z
DTSTART;VALUE=DATE:20260523
DTEND;VALUE=DATE:20260524
SUMMARY:Grand Masters of Comedy on the Harbour
DESCRIPTION:Comedy Cruise on Newcastle Harbour – Laugh Out Loud on the Water!\n\nExperience an unforgettable night filled with laughter\, entertainment\, and stunning harbour views aboard the MV Calmer\, Newcastle's premier superyacht. This unique comedy cruise features live stand-up comedy with top Australian and international comedians\, delivering sharp wit\, outrageous stories\, and crowd-roasting humour.\n\nGuests are welcomed with complimentary canapés and drinks upon arrival\, setting the tone for a fun-filled evening. The fully licensed venue offers a wide selection of drinks\, including craft beers\, wines\, spirits\, and ready-to-drink favourites. A delicious menu\, crafted by the private chef\, is available for purchase.\n\nTake in breathtaking 360-degree harbour views from the wrap-around decks and sky deck\, perfect for snapping memorable photos. Between comedy sets\, guests can relax and mingle across all three levels\, with upbeat music to keep the energy flowing.\n\nEntry Cost\nAll tickets $57 
LOCATION:\, Wharf Rd\, Newcastle\, NSW 2300\, NSW\, 2300
RRULE:FREQ=DAILY;INTERVAL=1;UNTIL=20260525T000000Z
END:VEVENT
END:VCALENDAR
