BEGIN:VCALENDAR
VERSION:2.0
PRODID:-//My Community Diary//iCal Event//EN
CALSCALE:GREGORIAN
METHOD:PUBLISH
BEGIN:VEVENT
UID:ad0da60c-ded4-4f33-a299-61c478cfda40
DTSTAMP:20260423T142019Z
DTSTART;VALUE=DATE:20261125
DTEND;VALUE=DATE:20261126
SUMMARY:Goulburn Regional Ukulele Band Sessions
DESCRIPTION:A weekly session featuring the Goulburn Regional Ukulele Bank with all levels of musicianship welcome. \n\nAttendance is strictly limited to Goulburn GRUB Club members only but you can signup or renew on arrival. \n\nThere is a waiting list option on the booking site if you miss out.
LOCATION:\, 19 Market Street\, Goulburn\, NSW 2580\, NSW\, 2580
RRULE:FREQ=DAILY;INTERVAL=1;UNTIL=20261127T000000Z
END:VEVENT
END:VCALENDAR
