BEGIN:VCALENDAR
VERSION:2.0
PRODID:-//My Community Diary//iCal Event//EN
CALSCALE:GREGORIAN
METHOD:PUBLISH
BEGIN:VEVENT
UID:e87277b3-0a6a-4315-8cb9-74172346a29e
DTSTAMP:20260421T225603Z
DTSTART;VALUE=DATE:20261118
DTEND;VALUE=DATE:20261119
SUMMARY:Goulburn Regional Ukulele Band Sessions
DESCRIPTION:A weekly session featuring the Goulburn Regional Ukulele Bank with all levels of musicianship welcome. \n\nAttendance is strictly limited to Goulburn GRUB Club members only but you can signup or renew on arrival. \n\nThere is a waiting list option on the booking site if you miss out.
LOCATION:\, 19 Market Street\, Goulburn\, NSW 2580\, NSW\, 2580
RRULE:FREQ=DAILY;INTERVAL=1;UNTIL=20261120T000000Z
END:VEVENT
END:VCALENDAR
