BEGIN:VCALENDAR
VERSION:2.0
PRODID:-//My Community Diary//iCal Event//EN
CALSCALE:GREGORIAN
METHOD:PUBLISH
BEGIN:VEVENT
UID:5d7bf8ef-2c02-44c5-b042-cf7fd43fe592
DTSTAMP:20260421T225727Z
DTSTART;VALUE=DATE:20261028
DTEND;VALUE=DATE:20261029
SUMMARY:Goulburn Regional Ukulele Band Sessions
DESCRIPTION:A weekly session featuring the Goulburn Regional Ukulele Bank with all levels of musicianship welcome. \n\nAttendance is strictly limited to Goulburn GRUB Club members only but you can signup or renew on arrival. \n\nThere is a waiting list option on the booking site if you miss out.
LOCATION:\, 19 Market Street\, Goulburn\, NSW 2580\, NSW\, 2580
RRULE:FREQ=DAILY;INTERVAL=1;UNTIL=20261030T000000Z
END:VEVENT
END:VCALENDAR
