BEGIN:VCALENDAR
VERSION:2.0
PRODID:-//My Community Diary//iCal Event//EN
CALSCALE:GREGORIAN
METHOD:PUBLISH
BEGIN:VEVENT
UID:086eeff7-5e6a-4523-ab10-d336fca21f39
DTSTAMP:20260421T225604Z
DTSTART;VALUE=DATE:20261007
DTEND;VALUE=DATE:20261008
SUMMARY:Goulburn Regional Ukulele Band Sessions
DESCRIPTION:A weekly session featuring the Goulburn Regional Ukulele Bank with all levels of musicianship welcome. \n\nAttendance is strictly limited to Goulburn GRUB Club members only but you can signup or renew on arrival. \n\nThere is a waiting list option on the booking site if you miss out.
LOCATION:\, 19 Market Street\, Goulburn\, NSW 2580\, NSW\, 2580
RRULE:FREQ=DAILY;INTERVAL=1;UNTIL=20261009T000000Z
END:VEVENT
END:VCALENDAR
