BEGIN:VCALENDAR
VERSION:2.0
PRODID:-//My Community Diary//iCal Event//EN
CALSCALE:GREGORIAN
METHOD:PUBLISH
BEGIN:VEVENT
UID:7fd2c1a2-720b-411a-8979-532d12caf8c6
DTSTAMP:20260422T021058Z
DTSTART;VALUE=DATE:20260517
DTEND;VALUE=DATE:20260518
SUMMARY:Goulburn Race Series 2026
DESCRIPTION:Gather at Riverside Park for the Goulburn Race Series\, organised by Race Hub Australia\, where you can choose from a 21.1 kilometre (Half Marathon)\, 10 kilometre\, 5 kilometre or 2 kilometre Family Dash.\n\nThe scenic paths provide an enjoyable experience for both seasoned runners looking to set a new personal best and beginners eager to cross the finish line with a sense of accomplishment. The peaceful riverside setting ensures an unforgettable and scenic race day for all participants.\n\nThis event not only promotes physical fitness but also fosters a sense of community spirit. Families are encouraged to join the celebration\, whether by participating or supporting from the sidelines\, making the Goulburn Half Marathon a day of fun and camaraderie for all.\n\nAll event finishers will receive a unique Goulburn themed medal\, post-race snacks\, sponsor giveaways and an online finishers certificate. Register for both events to receive 10 per cent off and a free Series T-Shirt.\n\nProudly supported by Goulburn Mulwaree Council.\n\nEntry Cost\nAll tickets $25 
LOCATION:\, Quiberon Way\, Goulburn\, NSW 2580\, NSW\, 2580
RRULE:FREQ=DAILY;INTERVAL=1;UNTIL=20260519T000000Z
END:VEVENT
END:VCALENDAR
