BEGIN:VCALENDAR
VERSION:2.0
PRODID:-//My Community Diary//iCal Event//EN
CALSCALE:GREGORIAN
METHOD:PUBLISH
BEGIN:VEVENT
UID:76731be6-befa-4da4-a0a0-670cc4f50dbc
DTSTAMP:20260423T124055Z
DTSTART;VALUE=DATE:20261219
DTEND;VALUE=DATE:20261220
SUMMARY:Goulburn Parkrun
DESCRIPTION:Goulburn Parkrun is a free\, weekly\, five-kilometre timed run open to all ages and abilities. The run is for enjoyment so come along and join in the fun\, whatever your pace! \n\nPlease register before your first run and don't forget to bring a printed copy of your barcode if you want to be timed!
LOCATION:\, off Fitzroy Street\, Goulburn\, NSW 2580\, NSW\, 2580
RRULE:FREQ=DAILY;INTERVAL=1;UNTIL=20261221T000000Z
END:VEVENT
END:VCALENDAR
