BEGIN:VCALENDAR
VERSION:2.0
PRODID:-//My Community Diary//iCal Event//EN
CALSCALE:GREGORIAN
METHOD:PUBLISH
BEGIN:VEVENT
UID:3367a885-b6db-4ea6-9e46-d5f0097a4043
DTSTAMP:20260422T054342Z
DTSTART;VALUE=DATE:20260620
DTEND;VALUE=DATE:20260621
SUMMARY:Goulburn Parkrun
DESCRIPTION:Goulburn Parkrun is a free\, weekly\, five-kilometre timed run open to all ages and abilities. The run is for enjoyment so come along and join in the fun\, whatever your pace! \n\nPlease register before your first run and don't forget to bring a printed copy of your barcode if you want to be timed!
LOCATION:\, off Fitzroy Street\, Goulburn\, NSW 2580\, NSW\, 2580
RRULE:FREQ=DAILY;INTERVAL=1;UNTIL=20260622T000000Z
END:VEVENT
END:VCALENDAR
