BEGIN:VCALENDAR
VERSION:2.0
PRODID:-//My Community Diary//iCal Event//EN
CALSCALE:GREGORIAN
METHOD:PUBLISH
BEGIN:VEVENT
UID:31c1ea0f-b2fe-4b5d-86bb-b24563a4f7e7
DTSTAMP:20260422T015822Z
DTSTART;VALUE=DATE:20260925
DTEND;VALUE=DATE:20260926
SUMMARY:Goulburn Local Live Music Showcase
DESCRIPTION:On the fourth Friday of each month\, the Goulburn Club hosts the Goulburn Local Live Music Showcase\, where any local performers can get on stage and show off their skills.\n\nEveryone is welcome to come along to listen or present an item. Musicians and singer/songwriters are encouraged to join in and show off their talent. Soloists and groups regularly appear\, and the variety is always entertaining. \n\nA vocal PA is available to use\, and each act is given 10 to 15 minutes to perform\, depending on the number of acts on the night. Simply turn up and put your name on the whiteboard to secure a spot.
LOCATION:\, 19 Market Street\, Goulburn\, NSW 2580\, NSW\, 2580
RRULE:FREQ=DAILY;INTERVAL=1;UNTIL=20260927T000000Z
END:VEVENT
END:VCALENDAR
