BEGIN:VCALENDAR
VERSION:2.0
PRODID:-//My Community Diary//iCal Event//EN
CALSCALE:GREGORIAN
METHOD:PUBLISH
BEGIN:VEVENT
UID:f6b143d4-eb66-476c-9b08-d74277d932ab
DTSTAMP:20260422T021144Z
DTSTART;VALUE=DATE:20261024
DTEND;VALUE=DATE:20261025
SUMMARY:Goulburn Farmers Markets
DESCRIPTION:The Goulburn Farmers Market is a cooperative venture promoting local producers and makers\, and for the public to discover the best foods of the region.\n\nCome and experience the community vibe\, with local entertainers among the stallholders\, good coffee\, as well as small workshops on how to grow food\, beekeeping and making compost.\n\nThe Goulburn Farmers Market is held on the 4th Saturday of each month.\n\nProudly supported by Goulburn Mulwaree Council.
LOCATION:\, 45 Braidwood Road\, Goulburn\, NSW 2580\, NSW\, 2580
RRULE:FREQ=DAILY;INTERVAL=1;UNTIL=20261026T000000Z
END:VEVENT
END:VCALENDAR
