BEGIN:VCALENDAR
VERSION:2.0
PRODID:-//My Community Diary//iCal Event//EN
CALSCALE:GREGORIAN
METHOD:PUBLISH
BEGIN:VEVENT
UID:28bd130c-90d9-4350-9006-05d21344eec5
DTSTAMP:20260421T225640Z
DTSTART;VALUE=DATE:20261016
DTEND;VALUE=DATE:20261017
SUMMARY:Goulburn Celtic Session
DESCRIPTION:A monthly session featuring Celtic music. All levels of musicianship welcome. \n\nAttendance is strictly limited to Goulburn Club members only but you can signup or renew on arrival. \n\nThere is a waiting list option on the booking site if you miss out.
LOCATION:\, 19 Market Street\, Goulburn\, NSW 2580\, NSW\, 2580
RRULE:FREQ=DAILY;INTERVAL=1;UNTIL=20261018T000000Z
END:VEVENT
END:VCALENDAR
