BEGIN:VCALENDAR
VERSION:2.0
PRODID:-//My Community Diary//iCal Event//EN
CALSCALE:GREGORIAN
METHOD:PUBLISH
BEGIN:VEVENT
UID:fdb990bc-6047-47f9-95d3-d19208cc75db
DTSTAMP:20260422T021029Z
DTSTART;VALUE=DATE:20260918
DTEND;VALUE=DATE:20260919
SUMMARY:Goulburn Celtic Session
DESCRIPTION:A monthly session featuring Celtic music. All levels of musicianship welcome. \n\nAttendance is strictly limited to Goulburn Club members only but you can signup or renew on arrival. \n\nThere is a waiting list option on the booking site if you miss out.
LOCATION:\, 19 Market Street\, Goulburn\, NSW 2580\, NSW\, 2580
RRULE:FREQ=DAILY;INTERVAL=1;UNTIL=20260920T000000Z
END:VEVENT
END:VCALENDAR
