BEGIN:VCALENDAR
VERSION:2.0
PRODID:-//My Community Diary//iCal Event//EN
CALSCALE:GREGORIAN
METHOD:PUBLISH
BEGIN:VEVENT
UID:8b6248e3-d98d-447e-b9a4-c76ea472489a
DTSTAMP:20260422T003031Z
DTSTART;VALUE=DATE:20260525
DTEND;VALUE=DATE:20260526
SUMMARY:Gold Vivid Dinner Cruise
DESCRIPTION:The quintessential Vivid Sydney gourmet food and wine experience on Sydney Harbour. For that truly special occasion or corporate entertaining\, their Gold Penfolds Dinner is an unforgettable waterfront restaurant experience where every detail matters. Leave inspired\, sated and breathless as you and your guests are treated to not only the view\, but a swathe of plate matched Penfolds wines.\n\nPenfolds collection of benchmark wines are compelling for collectors and drinkers the world over. Since 1844\, Penfolds has played a pivotal role in the evolution of winemaking in the constant and endless pursuit of quality. They exude both celebration and excitement.\n\nHighlights include: The full canvas of Vivid Lights from the water\; Six Course Degustation Menu with the option of paired Penfolds wine selection\; Live music nightly\; Up to 3 hours of relaxed cruising onboard our air-conditioned flagships with expansive windows throughout the vessel offering million-dollar views\; Gold personalised service\; A photographer's and Instagrammer's dream with spacious outdoor open leisure decks to capture Sydney's iconic Sydney Opera House and Harbour Bridge by night.\n\nEntry Cost\nAdult $225  - Check online for specials. Cruise Departs Darling Harbour King St Wharf No.1 at 7:00pm and returns at 10:00pm. Operates Wednesday to Sunday\, plus Monday 8  June 2026
LOCATION:\, King Street Wharf 1 10 The Promenade\, Sydney\, NSW 2000\, NSW\, 2000
RRULE:FREQ=DAILY;INTERVAL=1;UNTIL=20260527T000000Z
END:VEVENT
END:VCALENDAR
