BEGIN:VCALENDAR
VERSION:2.0
PRODID:-//My Community Diary//iCal Event//EN
CALSCALE:GREGORIAN
METHOD:PUBLISH
BEGIN:VEVENT
UID:63c03abb-36d6-4dd4-ad96-931df7ee08cd
DTSTAMP:20260422T005105Z
DTSTART;VALUE=DATE:20260430
DTEND;VALUE=DATE:20260501
SUMMARY:Gold Cup Calcutta at the Sporties
DESCRIPTION:Gold Cup Calcutta at the Sporties\, the eve of Wagga’s biggest race day. \n\nGet ready for all the excitement of Wagga’s Gold Cup Eve at The Sporties! Join them for a night full of fun\, action\, and a chance to buy your very own horse in the Calcutta.\n\nJoin the thrill of the Calcutta – bid on your favorite horse and be part of the racing action! Ice-cold drinks and a fantastic atmosphere to kickstart race day celebrations. Delicious meals.
LOCATION:\, 107 Kincaid Street\, Wagga Wagga\, NSW 2650\, NSW\, 2650
END:VEVENT
END:VCALENDAR
