BEGIN:VCALENDAR
VERSION:2.0
PRODID:-//My Community Diary//iCal Event//EN
CALSCALE:GREGORIAN
METHOD:PUBLISH
BEGIN:VEVENT
UID:9cc5ba67-8f3e-47de-83d3-6b7a8a2cb3f1
DTSTAMP:20260422T005106Z
DTSTART;VALUE=DATE:20260430
DTEND;VALUE=DATE:20260501
SUMMARY:Gold Cup Calcutta at the Blamey
DESCRIPTION:Gold Cup Calcutta\, the eve of Wagga’s biggest race day. \n\nGet ready for all the excitement of Wagga’s Gold Cup Eve at The Blamey! Join them for a night full of fun\, action\, and a chance to buy your very own horse in the Calcutta.\n\nJoin the thrill of the Calcutta – bid on your favorite horse and be part of the racing action! Ice-cold drinks and a fantastic atmosphere to kickstart race day celebrations. Delicious meals.
LOCATION:\, 55 Main St\, Lake Albert\, NSW 2650\, NSW\, 2650
END:VEVENT
END:VCALENDAR
