BEGIN:VCALENDAR
VERSION:2.0
PRODID:-//My Community Diary//iCal Event//EN
CALSCALE:GREGORIAN
METHOD:PUBLISH
BEGIN:VEVENT
UID:6201d07e-6f2e-4f95-9aba-fc55aba342a3
DTSTAMP:20260422T015728Z
DTSTART;VALUE=DATE:20260926
DTEND;VALUE=DATE:20260927
SUMMARY:Goin' to Gil Festival Weekend
DESCRIPTION:In conjunction with Under the Gums\, Gilgandra can't wait to welcome you to town with a wide lineup of activities over the Goin' to Gil Festival Weekend.\n\nGoin' to Gil is more than just a festival - it's a celebration of community\, history\, and the unique charm of Gilgandra. \n\nThe festival's diverse lineup includes iconic events such as Under the Gums\, a major live music spectacle featuring top Australian acts and local talent\; and a range of community activities like watermelon eating contests and a lively street parade. There's something for everyone during this action-packed weekend!\n\nKeep an eye on our socials and website for exciting updates and announcements.
LOCATION:\, Gilgandra\, NSW 2827\, NSW\, 2827
RRULE:FREQ=DAILY;INTERVAL=1;UNTIL=20260928T000000Z
END:VEVENT
END:VCALENDAR
