BEGIN:VCALENDAR
VERSION:2.0
PRODID:-//My Community Diary//iCal Event//EN
CALSCALE:GREGORIAN
METHOD:PUBLISH
BEGIN:VEVENT
UID:44caa3b9-0441-425e-9cc7-40c9a42107b4
DTSTAMP:20260422T020254Z
DTSTART;VALUE=DATE:20261205
DTEND;VALUE=DATE:20261206
SUMMARY:Glow2680 - Sidewalk Sale
DESCRIPTION:Join the Glow2680 Sidewalk Sale and shop ‘til you drop! Wander the local Banna Avenue and pick up a bargain at the local retail stalls on the sidewalk.
LOCATION:\, Banna Avenue\, Griffith\, NSW 2680\, NSW\, 2680
END:VEVENT
END:VCALENDAR
