BEGIN:VCALENDAR
VERSION:2.0
PRODID:-//My Community Diary//iCal Event//EN
CALSCALE:GREGORIAN
METHOD:PUBLISH
BEGIN:VEVENT
UID:fbaaba66-f28d-4e25-a290-115da3a42283
DTSTAMP:20260421T225602Z
DTSTART;VALUE=DATE:20261128
DTEND;VALUE=DATE:20261129
SUMMARY:Glenmore Park Indoor Market
DESCRIPTION:Browse the area's local sellers\, small and micro businesses bringing you their amazing products.\n\nThe indoor market will go ahead in all weather and will be a regular arrangement on the last.
LOCATION:\, Town Terrace\, Glenmore Park\, NSW 2745\, NSW\, 2745
RRULE:FREQ=DAILY;INTERVAL=1;UNTIL=20261130T000000Z
END:VEVENT
END:VCALENDAR
