BEGIN:VCALENDAR
VERSION:2.0
PRODID:-//My Community Diary//iCal Event//EN
CALSCALE:GREGORIAN
METHOD:PUBLISH
BEGIN:VEVENT
UID:16f7a3e5-1463-407c-817d-0223a2dcdc4b
DTSTAMP:20260421T211559Z
DTSTART;VALUE=DATE:20260627
DTEND;VALUE=DATE:20260628
SUMMARY:Glenmore Park Indoor Market
DESCRIPTION:Browse the area's local sellers\, small and micro businesses bringing you their amazing products.\n\nThe indoor market will go ahead in all weather and will be a regular arrangement on the last.
LOCATION:\, Town Terrace\, Glenmore Park\, NSW 2745\, NSW\, 2745
RRULE:FREQ=DAILY;INTERVAL=1;UNTIL=20260629T000000Z
END:VEVENT
END:VCALENDAR
