BEGIN:VCALENDAR
VERSION:2.0
PRODID:-//My Community Diary//iCal Event//EN
CALSCALE:GREGORIAN
METHOD:PUBLISH
BEGIN:VEVENT
UID:09015afe-e023-4647-891a-ad44ad1c3ac2
DTSTAMP:20260422T015724Z
DTSTART;VALUE=DATE:20261003
DTEND;VALUE=DATE:20261004
SUMMARY:Glen Innes Spring Show Jump
DESCRIPTION:The Glen Innes Show Jump is an upcoming equestrian event held at Glen Innes Showground. \n\nThree days of jumping with classes ranging from 60cm to 140cm. This event is perfect for equestrian enthusiasts and competitors looking to participate in a thrilling show jumping competition.\n\nThe event runs for three days with two arenas in action. There is the unofficial ring where the junior riders and the less experienced competitors have the opportunity to compete. Whilst in the main ring we have the professional riders demonstrating their highly tuned skills over fences in excess of 140 cm high. There are many past\, present and future Olympians on display and the standard of the show jumping is equal to anywhere in Australia.\n\nThe competitors love competing at the beautiful Glen Innes Showground where the surface has been described as one of the best outdoor show jumping surfaces in Australia. The jumping equipment is first class and the course builders and judges are the best in Australia. Combine this with the Glen Innes Show Committees record of conducting well run professional events and you have the recipe for success.
LOCATION:\, 37 Torrington St\, Glen Innes\, NSW 2370\, NSW\, 2370
RRULE:FREQ=DAILY;INTERVAL=1;UNTIL=20261005T000000Z
END:VEVENT
END:VCALENDAR
