BEGIN:VCALENDAR
VERSION:2.0
PRODID:-//My Community Diary//iCal Event//EN
CALSCALE:GREGORIAN
METHOD:PUBLISH
BEGIN:VEVENT
UID:5292f435-5bae-4f08-a22b-1fcf791a7cbb
DTSTAMP:20260422T071512Z
DTSTART;VALUE=DATE:20260717
DTEND;VALUE=DATE:20260718
SUMMARY:Geraldine Hickey - A Weight Off My Chest
DESCRIPTION:She had breast reduction surgery\, but they took them all. She didn't want them\, they were big and heavy and she wanted it to be easier to find clothes that would fit. She wanted to be ready to evacuate in the middle of the night and not think she could die in a fire with one arm stuck in a bra strap. She wanted to believe in the possibility of doing a handstand...without hitting herself in the face.\n\nGeraldine Hickey is a regular on screens\, appearing on I'm A Celebrity...Get Me Out of Here!\, Spicks & Specks\, The Cheap Seats and Have You Been Paying Attention?\n\nEntry Cost\nAdult $55 \nConcession $49 \nGroup $49 \nMember $49 
LOCATION:\, 525 Swift St\, Albury\, NSW 2640\, NSW\, 2640
END:VEVENT
END:VCALENDAR
