BEGIN:VCALENDAR
VERSION:2.0
PRODID:-//My Community Diary//iCal Event//EN
CALSCALE:GREGORIAN
METHOD:PUBLISH
BEGIN:VEVENT
UID:94ecf953-237b-4560-ac6c-a62d280b49d7
DTSTAMP:20260422T021151Z
DTSTART;VALUE=DATE:20260529
DTEND;VALUE=DATE:20260530
SUMMARY:Georgie Carroll - Infectious - Bathurst
DESCRIPTION:As seen on Britain’s Got Talent\, winner of ‘Best Comedy Show’ at the Adelaide Fringe Festival and following a sold-out UK\, New Zealand\, and Australian tour in 2024\, don’t miss Nurse Georgie Carroll this March! \n\nGeorgie has seen it all and is bringing her hilarious award-winning stand-up to you for one night only. You’ll laugh\, you’ll gasp\, you’ll cry\, it might even hurt\, but it will make you better. She should have been a midwife as she always delivers!
LOCATION:\, 105 William St\, Bathurst\, NSW 2795\, NSW\, 2795
END:VEVENT
END:VCALENDAR
