BEGIN:VCALENDAR
VERSION:2.0
PRODID:-//My Community Diary//iCal Event//EN
CALSCALE:GREGORIAN
METHOD:PUBLISH
BEGIN:VEVENT
UID:36a77470-1b70-4b14-921d-3ac61264b670
DTSTAMP:20260422T023727Z
DTSTART;VALUE=DATE:20261004
DTEND;VALUE=DATE:20261005
SUMMARY:Gears and Beers Festival
DESCRIPTION:The annual Gears and Beers Festival is a community cycle challenge\, combined with a Craft Beer Festival. The event is conceived and run by the Rotary Club of Wollundry Wagga Wagga.\n\nWagga Wagga is well known as an active community and they are proud to provide an event that promotes health\, fitness and fun for all ages.\n\nThe focus is on community participation\; Mum's\, Dad's\, children\, current cycle enthusiasts\, beginners and business challenge participants. The craft beer festival has been created to meet the growing appreciation for the range of handcrafted beers and ciders produced in the region. \n\nThe combination of the cycle challenge\, the craft beer festival\, outstanding locally roasted coffee\, accompanied by great local food\, plus first-class musical entertainment\, makes for an enjoyable day. \n\nRide distances begin with nine kilometres\, 30 kilometres\, Filthy 50 kilometres (Dirt sections)\, 100 kilometres\, and culminate with their marque ride 'The Dirty 130' which contains four challenging dirt sectors. \n\nThis event has continued to draw the attention of cycle enthusiasts from all over the country and will continue to draw people to Wagga Wagga.\n\nEntry Cost\nAdult $20  - Festival Entry - over 18 non-rider - AUD20.\nUnder 18 Free entry\nAdult $20  - Nine kilometre community ride -AUD20.\nAdult $40  - 30 kilometre Ride - AUD40\nAdult $80  - 100 kilometre Long course sealed roads AUD80\nAdult $60  - Filthy 50 kilometre - Dirt roads AUD60\nAll tickets $150  - Dirty 130 - Dirt sectors AUD150
LOCATION:\, 243 Baylis Street\, Wagga Wagga\, NSW 2650\, NSW\, 2650
RRULE:FREQ=DAILY;INTERVAL=1;UNTIL=20261006T000000Z
END:VEVENT
END:VCALENDAR
