BEGIN:VCALENDAR
VERSION:2.0
PRODID:-//My Community Diary//iCal Event//EN
CALSCALE:GREGORIAN
METHOD:PUBLISH
BEGIN:VEVENT
UID:9c928928-44c2-4d79-ab5d-f9f4fa9b4530
DTSTAMP:20260422T014624Z
DTSTART;VALUE=DATE:20260524
DTEND;VALUE=DATE:20260525
SUMMARY:Garden of Wire Creative Workshops
DESCRIPTION:This creative studio experience offers visitors the chance to slow down\, get hands-on and create something meaningful to take home. Set in a relaxed\, welcoming environment\, the attraction features a rotating program of small-group workshops inspired by nature\, texture and found materials.\n\nVisitors are guided step-by-step through the creative process\, with no prior experience needed. Workshops range from sculptural wire forms and botanical pieces to seasonal and themed creations\, making it an ideal experience for individuals\, couples and small groups looking for something different to do while visiting the region.\n\nWith a focus on mindful making\, quality materials and personal guidance\, this attraction provides a unique opportunity to connect with creativity in a calm\, unrushed setting. Bookings are essential and places are limited to maintain an intimate\, personalised experience.\n\nEntry Cost\nAll tickets $65 
LOCATION:\, 87 Oberon Street\, Oberon\, NSW 2787\, NSW\, 2787
RRULE:FREQ=DAILY;INTERVAL=1;UNTIL=20260526T000000Z
END:VEVENT
END:VCALENDAR
