BEGIN:VCALENDAR
VERSION:2.0
PRODID:-//My Community Diary//iCal Event//EN
CALSCALE:GREGORIAN
METHOD:PUBLISH
BEGIN:VEVENT
UID:56cde52d-c759-48ca-b398-51c938cd4a51
DTSTAMP:20260422T071346Z
DTSTART;VALUE=DATE:20260507
DTEND;VALUE=DATE:20260508
SUMMARY:Gaining Through Training Students Takeover Sandbar
DESCRIPTION:For one special dinner service\, the students from Gaining Through Training take the reins at Sandbar Huskisson\, transforming the much-loved venue into a lively showcase of emerging hospitality talent.\n\nGuests are invited to enjoy a relaxed and fun lunch as the students step into real hospitality roles — from front-of-house service to kitchen preparation — gaining hands-on experience while serving up a delicious menu. Expect a warm atmosphere\, great food and plenty of enthusiasm as these future chefs and hospitality professionals put their training into practice. By booking a table\, diners are not only enjoying a memorable meal in Huskisson\, but also supporting the next generation of the region's hospitality industry.
LOCATION:\, 9-11 Hawke Street\, Huskisson\, NSW 2540\, NSW\, 2540
END:VEVENT
END:VCALENDAR
