BEGIN:VCALENDAR
VERSION:2.0
PRODID:-//My Community Diary//iCal Event//EN
CALSCALE:GREGORIAN
METHOD:PUBLISH
BEGIN:VEVENT
UID:673dff0d-9927-486f-8d27-bc9116fe94ed
DTSTAMP:20260422T001714Z
DTSTART;VALUE=DATE:20260521
DTEND;VALUE=DATE:20260522
SUMMARY:Funhaus Drag Bingo
DESCRIPTION:Drag bingo is bingo with a twist\, the essence of the game is simple\, you play bingo\, and the numbers are called out by a drag queen\, with a little bit of live performance with the art of drag combined with the traditional game everyone knows and loves.\n\nIt's a little bit naughty with adult-only themes\, but you can guarantee adult humour and performances\, all whilst playing five games of bingo. Prizes are awarded for every game\, with drag performances after the final round.\n\nHosted by the pocket sized pop princess Foxxe Faux. Her name might be fake but she is all real baby. Small in size but definitely big on energy\, you are always in safe hands watching this captivating queen bring her fierce vibes to every stage. You can find Foxxe hosting and performing at events internationally and all over Australia.
LOCATION:\, 141 Mann Street\, Gosford\, NSW 2250\, NSW\, 2250
RRULE:FREQ=DAILY;INTERVAL=1;UNTIL=20260523T000000Z
END:VEVENT
END:VCALENDAR
