BEGIN:VCALENDAR
VERSION:2.0
PRODID:-//My Community Diary//iCal Event//EN
CALSCALE:GREGORIAN
METHOD:PUBLISH
BEGIN:VEVENT
UID:3f0dd6e9-37b4-4bb1-a833-ec462a127aaa
DTSTAMP:20260422T020157Z
DTSTART;VALUE=DATE:20260531
DTEND;VALUE=DATE:20260601
SUMMARY:From Within - A Pilates Retreat
DESCRIPTION:A pilates and wellness retreat to train the nervous system - not to escape it.\n\nIf life has been feeling loud\, fast\, or a little overwhelming\, this retreat is an invitation to slow down and gently come back to yourself.\nBe part of a small group of 8\, plus your 3 hosts\, nestled in the gorgeous Curraweena House in Kurrajong NSW. Over the weekend\, you'll reset your nervous system and learn what it truely means to find mind body connection\, whilst immersing yourself in deep conversations and a stunning backdrop to match.\n\nEntry Cost\nAll tickets $750  - Ticket prices start at $750 for a single bed within a double room and go up tp $1400 for private use in one of the larger appointed rooms.
LOCATION:\, 1033 Grose Vale Road\, Kurrajong\, NSW 2758\, NSW\, 2758
RRULE:FREQ=DAILY;INTERVAL=1;UNTIL=20260602T000000Z
END:VEVENT
END:VCALENDAR
