BEGIN:VCALENDAR
VERSION:2.0
PRODID:-//My Community Diary//iCal Event//EN
CALSCALE:GREGORIAN
METHOD:PUBLISH
BEGIN:VEVENT
UID:65480474-8e54-4057-8ec2-6954c224b1da
DTSTAMP:20260422T054228Z
DTSTART;VALUE=DATE:20260422
DTEND;VALUE=DATE:20260423
SUMMARY:From Grove to Bottle: Exclusive Tasting and Canapés
DESCRIPTION:A tasting experience for food lovers\, home cooks\, and olive oil enthusiasts\, showcasing exclusive seasonal 2026 extra virgin olive oils and vinegars straight from the barrel before they reach the shelves.\n\nEnjoy canapés while learning how olive oil is made\, how to use it in everyday cooking\, and gaining insight into the Australian olive oil industry from the makers at Pukara Estate.\n\nEntry Cost\nAll tickets $10 
LOCATION:\, 67 Hunter Street Shop 6\, Newcastle\, NSW 2300\, NSW\, 2300
RRULE:FREQ=DAILY;INTERVAL=1;UNTIL=20260424T000000Z
END:VEVENT
END:VCALENDAR
