BEGIN:VCALENDAR
VERSION:2.0
PRODID:-//My Community Diary//iCal Event//EN
CALSCALE:GREGORIAN
METHOD:PUBLISH
BEGIN:VEVENT
UID:1d5467c8-e973-4cf4-8612-982ba61fbc56
DTSTAMP:20260421T222209Z
DTSTART;VALUE=DATE:20260530
DTEND;VALUE=DATE:20260531
SUMMARY:Four Hour Clay Class
DESCRIPTION:Experience the joy of pottery in this 4 hour immersive wheel-throwing workshop at Silt Studio. Perfect for beginners and intermediate potters\, this hands-on class offers the chance to learn pottery wheel techniques\, create a variety of clay pieces of your choice\, and develop confidence in the art of throwing. Guided by experienced instructors\, you'll enjoy expert tuition\, plenty of practice time\, and the freedom to explore your own style while shaping beautiful\, functional ceramics.\n\nBYO drinks (glassware provided).\n\nThree of your favourite pieces will be glazed and fired for later collection.\n\nEntry Cost\nAll tickets $150 
LOCATION:\, 19 Bridge Street\, North Lismore\, NSW 2480\, NSW\, 2480
RRULE:FREQ=DAILY;INTERVAL=1;UNTIL=20260601T000000Z
END:VEVENT
END:VCALENDAR
