BEGIN:VCALENDAR
VERSION:2.0
PRODID:-//My Community Diary//iCal Event//EN
CALSCALE:GREGORIAN
METHOD:PUBLISH
BEGIN:VEVENT
UID:ca08fda4-5842-4e43-b726-80ac591bba88
DTSTAMP:20260421T222408Z
DTSTART;VALUE=DATE:20260524
DTEND;VALUE=DATE:20260525
SUMMARY:Flower Workshops with Ela Flora
DESCRIPTION:Step into a therapeutic session and get hands on with this dried floral arrangement workshop. Creating something from scratch can be so rewarding and even better knowing you can admire your timeless piece of botanical art at home. \n\nSet within the historic and charming Blacket Barn at Tocal Homestead\, enjoy a creative morning in the countryside. \n\nUsing a beautiful generously proportioned ceramic vase\, create your own design from an assortment of dried flowers and embellishments supplied.  \n\nThe cost includes all materials and tools\, refreshments and step by step expert guidance.\n\nEntry Cost\nAdult $170 
LOCATION:\, 957 Tocal Road\, Tocal\, NSW 2421\, NSW\, 2421
RRULE:FREQ=DAILY;INTERVAL=1;UNTIL=20260526T000000Z
END:VEVENT
END:VCALENDAR
