BEGIN:VCALENDAR
VERSION:2.0
PRODID:-//My Community Diary//iCal Event//EN
CALSCALE:GREGORIAN
METHOD:PUBLISH
BEGIN:VEVENT
UID:34d63ce7-8ca3-47b2-9bf5-9f4ea3565244
DTSTAMP:20260422T035637Z
DTSTART;VALUE=DATE:20260620
DTEND;VALUE=DATE:20260621
SUMMARY:Float Your Boat Cruise
DESCRIPTION:Float Your Boat Parade is an open challenge for boat owners to dress up their boats with lights and take part ina a flotilla parade. \nJoin Lake Macquarie Cruises for a cruise to view the spectacular parade.\n\nIndulge in a freshly prepared sausage sizzle served onboard the vessel followed by a light dessert with complimentary tea and coffee or select from a full range of drinks available to purchase from the fully licensed bar.\n\nThere is no designated seating for this cruise.\n\nEntry Cost\nAdult $75 \nChild $55  - 3 - 14 years of age
LOCATION:\, First Street\, Booragul\, NSW 2284\, NSW\, 2284
RRULE:FREQ=DAILY;INTERVAL=1;UNTIL=20260622T000000Z
END:VEVENT
END:VCALENDAR
